BEGIN:VCALENDAR
VERSION:2.0
PRODID:-//BJORN AGAIN - ECPv4.9.14//NONSGML v1.0//EN
CALSCALE:GREGORIAN
METHOD:PUBLISH
X-WR-CALNAME:BJORN AGAIN
X-ORIGINAL-URL:http://www.bjornagain.com.au
X-WR-CALDESC:Events for BJORN AGAIN
BEGIN:VTIMEZONE
TZID:Australia/Melbourne
BEGIN:STANDARD
TZOFFSETFROM:+1100
TZOFFSETTO:+1000
TZNAME:AEST
DTSTART:20200404T160000
END:STANDARD
BEGIN:DAYLIGHT
TZOFFSETFROM:+1000
TZOFFSETTO:+1100
TZNAME:AEDT
DTSTART:20201003T160000
END:DAYLIGHT
END:VTIMEZONE
BEGIN:VEVENT
DTSTART;TZID=Australia/Melbourne:20200301T180000
DTEND;TZID=Australia/Melbourne:20200301T210000
DTSTAMP:20200302T052041
CREATED:20191101T062943Z
LAST-MODIFIED:20200204T022854Z
UID:2331-1583085600-1583096400@www.bjornagain.com.au
SUMMARY:Taronga Zoo
DESCRIPTION:
URL:http://www.bjornagain.com.au/event/taronga-zoo/
LOCATION:Taronga Zoo\, SYDNEY\, NSW\, Australia
END:VEVENT
END:VCALENDAR